BEGIN:VCALENDAR
VERSION:2.0
PRODID:-//CARRILET - ECPv6.15.14//NONSGML v1.0//EN
CALSCALE:GREGORIAN
METHOD:PUBLISH
X-WR-CALNAME:CARRILET
X-ORIGINAL-URL:https://www.carrilet.org
X-WR-CALDESC:Esdeveniments per CARRILET
REFRESH-INTERVAL;VALUE=DURATION:PT1H
X-Robots-Tag:noindex
X-PUBLISHED-TTL:PT1H
BEGIN:VTIMEZONE
TZID:Europe/Madrid
BEGIN:DAYLIGHT
TZOFFSETFROM:+0100
TZOFFSETTO:+0200
TZNAME:CEST
DTSTART:20250330T010000
END:DAYLIGHT
BEGIN:STANDARD
TZOFFSETFROM:+0200
TZOFFSETTO:+0100
TZNAME:CET
DTSTART:20251026T010000
END:STANDARD
BEGIN:DAYLIGHT
TZOFFSETFROM:+0100
TZOFFSETTO:+0200
TZNAME:CEST
DTSTART:20260329T010000
END:DAYLIGHT
BEGIN:STANDARD
TZOFFSETFROM:+0200
TZOFFSETTO:+0100
TZNAME:CET
DTSTART:20261025T010000
END:STANDARD
BEGIN:DAYLIGHT
TZOFFSETFROM:+0100
TZOFFSETTO:+0200
TZNAME:CEST
DTSTART:20270328T010000
END:DAYLIGHT
BEGIN:STANDARD
TZOFFSETFROM:+0200
TZOFFSETTO:+0100
TZNAME:CET
DTSTART:20271031T010000
END:STANDARD
END:VTIMEZONE
BEGIN:VEVENT
DTSTART;TZID=Europe/Madrid:20260220T100000
DTEND;TZID=Europe/Madrid:20260515T130000
DTSTAMP:20260422T104640
CREATED:20251209T230109Z
LAST-MODIFIED:20251211T064136Z
UID:9778-1771581600-1778850000@www.carrilet.org
SUMMARY:Curs d'especialització | Trobades d’actualització en autisme
DESCRIPTION:L’equip del Centre de Formació i Recerca Carrilet organitza aquestes trobades d’actualització en el TEA\, adreçat a professionals amb experiència en el treball amb infants amb TEA. \nL’objectiu és actualitzar els coneixements més recents per tal d’oferir una atenció terapèutica adequada a les necessitats que es van observant en els infants amb TEA i les seves famílies. \nAl llarg de les trobades es donaran a conèixer estratègies d’intervenció\, es compartiran recursos terapèutics i s’obriran espais de reflexió a partir de casos i experiències clíniques. \nCada trobada serà conduïda per docents experts amb una trajectòria sòlida en l’àmbit de l’autisme i de la infància. \nLa metodologia combinarà exposicions teòriques\, visionat de vídeos\, lectures d’articles i presentació de vinyetes clíniques. \nLes trobades d’actualització en TEA  està adreçat a: \nProfessionals amb experiència en el treball amb infants amb TEA. \nDocents de la formació:\nAquesta formació especialitzada de Carrilet anirà a càrreg de docents experts amb una trajectòria sòlida en l’àmbit de l’autisme i de la infància. \n\n20 de febrer. L’ARTTERÀPIA: DE LA SENSORIALITAT A LA SIMBOLITZACIÓ\n\nMònica Recio: Psicòloga sanitària\, Psicoterapeuta\, Màster en Artteràpia. Tera­peuta al Centre de Tractaments Carrilet i a l’Espai terapèutic Desenreda’t\, Canet.  \n\n20 de març. EL COS I LA INTENCIONALITAT SENSORIO-MOTORA PRIMÀRIA EN EL PROCÉS DE DIFERENCIACIÓ.\n\nÀngels Morral: Terapeuta Psicomotriu. Graduada en magisteri. Postgrau en Psicopatologia clínica i formació en Pràctica Psicomotriu Aucouturier. Membre del Centre de Recerca i Formació Carrilet i terapeuta a l’Espai MoviMent de Calella. Docent i supervisora. \n\n17 d’abril. ESPECIFICITAT DEL TRACTAMENT PSICOFARMACOLÒGIC EN PERSONES AMB AUTISME.\n\nTali Vaimberg: Psiquiatra d’adults\, de la infància i adolescencia\, psiquiatra i psicoterapeuta de Carrilet i de GRUP. Membre de la secció col.legial de Psiquiatres de Barcelona \n\n15 de maig. ESTRATÈGIES D’INTERVENCIÓ PRECOÇ EN EL TREBALL PARES-NENS\n\nLourdes Busquets: Psicòloga sanitària i psicoterapeuta del CDIAP Equip40. Docent i membre del Centre de Recerca i Formació Carrilet. Supervisora. \nInformació pràctica\nDies i horaris\nEl curs es realitzarà els dies 20 de febrer\, 20 de març\, 17 d’abril i 15 de maig de 10:00h a 13:00h. \nPreu\nEl cost per trobada és de 30 €. \nLloc\nBiblioteca Horta-Can Mariner\, carrer del Vent 1\, 08031 Barcelona \nFormat\nPresencial i en línia. Caldrà que al formulari d’inscripció ens indiqueu com voleu participar. \nInscripcions\nCal enviar el formulari d’inscripció i un cop confirmada la plaça\, enviar el justificant de pagament a formacio@carrilet.org \nPagament\nUn cop confirmada la plaça\, caldrà fer el pagament per transferència bancària indicant el nom\, cognoms i trobada d’actualització al compte: ES87 2100 1158 4902 0006 5521 de Carrilet \nIdioma: Català. \nInscripcions trobades d’actualització en TEA
URL:https://www.carrilet.org/event/trobades-autisme/
LOCATION:Biblioteca d’Horta Can Mariner\, Carrer del Vent\, 1\, Barcelona\, Barcelona\, 08031\, España
CATEGORIES:Curs d'Especialització,Formació
ATTACH;FMTTYPE=image/jpeg:https://www.carrilet.org/wp-content/uploads/2025/12/TROBADES-DACTUALITZACIO-EN-AUTISME-CARRILET-2026.jpg
ORGANIZER;CN="Carrilet SCCL":MAILTO:formacio@carrilet.org
END:VEVENT
END:VCALENDAR